BEGIN:VCALENDAR
VERSION:2.0
PRODID:-//OSC Hamburg - ECPv6.15.20//NONSGML v1.0//EN
CALSCALE:GREGORIAN
METHOD:PUBLISH
X-ORIGINAL-URL:https://www.osc-hamburg.de
X-WR-CALDESC:Veranstaltungen für OSC Hamburg
REFRESH-INTERVAL;VALUE=DURATION:PT1H
X-Robots-Tag:noindex
X-PUBLISHED-TTL:PT1H
BEGIN:VTIMEZONE
TZID:Europe/Helsinki
BEGIN:DAYLIGHT
TZOFFSETFROM:+0200
TZOFFSETTO:+0300
TZNAME:EEST
DTSTART:20250330T010000
END:DAYLIGHT
BEGIN:STANDARD
TZOFFSETFROM:+0300
TZOFFSETTO:+0200
TZNAME:EET
DTSTART:20251026T010000
END:STANDARD
BEGIN:DAYLIGHT
TZOFFSETFROM:+0200
TZOFFSETTO:+0300
TZNAME:EEST
DTSTART:20260329T010000
END:DAYLIGHT
BEGIN:STANDARD
TZOFFSETFROM:+0300
TZOFFSETTO:+0200
TZNAME:EET
DTSTART:20261025T010000
END:STANDARD
BEGIN:DAYLIGHT
TZOFFSETFROM:+0200
TZOFFSETTO:+0300
TZNAME:EEST
DTSTART:20270328T010000
END:DAYLIGHT
BEGIN:STANDARD
TZOFFSETFROM:+0300
TZOFFSETTO:+0200
TZNAME:EET
DTSTART:20271031T010000
END:STANDARD
END:VTIMEZONE
BEGIN:VEVENT
DTSTART;TZID=Europe/Helsinki:20260201T103000
DTEND;TZID=Europe/Helsinki:20260201T113000
DTSTAMP:20260422T185142
CREATED:20260101T212030Z
LAST-MODIFIED:20260101T212030Z
UID:2970-1769941800-1769945400@www.osc-hamburg.de
SUMMARY:Wintertraining Preetz
DESCRIPTION:
URL:https://www.osc-hamburg.de/event/wintertraining-preetz/
LOCATION:Schwentinental
END:VEVENT
BEGIN:VEVENT
DTSTART;TZID=Europe/Helsinki:20260208T110000
DTEND;TZID=Europe/Helsinki:20260208T120000
DTSTAMP:20260422T185142
CREATED:20260101T211622Z
LAST-MODIFIED:20260122T225520Z
UID:2962-1770548400-1770552000@www.osc-hamburg.de
SUMMARY:Kickoff 2026
DESCRIPTION:Die Veranstaltung vom SC Klecken e.V. findet im abwechslungsreichen Gelände des Harburger Stadtparks statt. Die Teilnehmenden können sich auf eine erweiterte OL-Karte im A3-Format rund um den Außenmühlenteich und das Tal der Engelbek freuen. \nBahnen: \n\nBahn A ca. 2\,5 km – leichte Orienterung (für Kindern und Neueinsteiger)\nBahn B ca. 4\,5 km – mittelschwere Orienterung\nBahn C ca. 7 km – mittelschwere bis schwere Orienterung\n\nDie Startzeiten sind ist frei wählbar (put and run\, 1 Min. Zeitabstand). Startmöglichkeiten\nvon 11.00 bis 12.00 Uhr. Zielschluss 13.00 Uhr \nWeitere Details : siehe Einladung \nAnmeldung bitte über den O-Manager \nIm Anschluss an den Lauf werden traditionell Tee und Punsch sowie Berliner und Kekse angeboten. \n     \n 
URL:https://www.osc-hamburg.de/event/kickoff-trainingswettkampf/
LOCATION:Hamburg-Wilstorf
ATTACH;FMTTYPE=image/jpeg:https://www.osc-hamburg.de/wp-content/uploads/2026/01/Foto-Aussenmuehlendamm-2.jpg
ORGANIZER;CN="SC Klecken":MAILTO:ol@sc-klecken.de
END:VEVENT
BEGIN:VEVENT
DTSTART;TZID=Europe/Helsinki:20260222T110000
DTEND;TZID=Europe/Helsinki:20260222T120000
DTSTAMP:20260422T185142
CREATED:20260101T211828Z
LAST-MODIFIED:20260101T211836Z
UID:2968-1771758000-1771761600@www.osc-hamburg.de
SUMMARY:Wintertraining Haake
DESCRIPTION:
URL:https://www.osc-hamburg.de/event/wintertraining-haake/
LOCATION:Hamburg – Haake\, Ehestorfer Heuweg 82\, Hamburg - Haake\, Hamburg\, 21149\, Deutschland
ORGANIZER;CN="OSC Hamburg":MAILTO:meldung@osc-hamburg.de
END:VEVENT
END:VCALENDAR