BEGIN:VCALENDAR
VERSION:2.0
PRODID:-//OSC Hamburg - ECPv6.15.20//NONSGML v1.0//EN
CALSCALE:GREGORIAN
METHOD:PUBLISH
X-ORIGINAL-URL:https://www.osc-hamburg.de
X-WR-CALDESC:Veranstaltungen für OSC Hamburg
REFRESH-INTERVAL;VALUE=DURATION:PT1H
X-Robots-Tag:noindex
X-PUBLISHED-TTL:PT1H
BEGIN:VTIMEZONE
TZID:Europe/Helsinki
BEGIN:DAYLIGHT
TZOFFSETFROM:+0200
TZOFFSETTO:+0300
TZNAME:EEST
DTSTART:20250330T010000
END:DAYLIGHT
BEGIN:STANDARD
TZOFFSETFROM:+0300
TZOFFSETTO:+0200
TZNAME:EET
DTSTART:20251026T010000
END:STANDARD
BEGIN:DAYLIGHT
TZOFFSETFROM:+0200
TZOFFSETTO:+0300
TZNAME:EEST
DTSTART:20260329T010000
END:DAYLIGHT
BEGIN:STANDARD
TZOFFSETFROM:+0300
TZOFFSETTO:+0200
TZNAME:EET
DTSTART:20261025T010000
END:STANDARD
BEGIN:DAYLIGHT
TZOFFSETFROM:+0200
TZOFFSETTO:+0300
TZNAME:EEST
DTSTART:20270328T010000
END:DAYLIGHT
BEGIN:STANDARD
TZOFFSETFROM:+0300
TZOFFSETTO:+0200
TZNAME:EET
DTSTART:20271031T010000
END:STANDARD
END:VTIMEZONE
BEGIN:VEVENT
DTSTART;TZID=Europe/Helsinki:20260222T110000
DTEND;TZID=Europe/Helsinki:20260222T120000
DTSTAMP:20260422T201617
CREATED:20260101T211828Z
LAST-MODIFIED:20260101T211836Z
UID:2968-1771758000-1771761600@www.osc-hamburg.de
SUMMARY:Wintertraining Haake
DESCRIPTION:
URL:https://www.osc-hamburg.de/event/wintertraining-haake/
LOCATION:Hamburg – Haake\, Ehestorfer Heuweg 82\, Hamburg - Haake\, Hamburg\, 21149\, Deutschland
ORGANIZER;CN="OSC Hamburg":MAILTO:meldung@osc-hamburg.de
END:VEVENT
END:VCALENDAR